BEGIN:VCALENDAR
VERSION:2.0
PRODID:-//European Rhinologic Society - ECPv6.1.3//NONSGML v1.0//EN
CALSCALE:GREGORIAN
METHOD:PUBLISH
X-WR-CALNAME:European Rhinologic Society
X-ORIGINAL-URL:https://www.europeanrhinologicsociety.org
X-WR-CALDESC:Events for European Rhinologic Society
REFRESH-INTERVAL;VALUE=DURATION:PT1H
X-Robots-Tag:noindex
X-PUBLISHED-TTL:PT1H
BEGIN:VTIMEZONE
TZID:UTC
BEGIN:STANDARD
TZOFFSETFROM:+0000
TZOFFSETTO:+0000
TZNAME:UTC
DTSTART:20250101T000000
END:STANDARD
END:VTIMEZONE
BEGIN:VEVENT
DTSTART;VALUE=DATE:20251022
DTEND;VALUE=DATE:20251025
DTSTAMP:20260421T101433
CREATED:20250617T121205Z
LAST-MODIFIED:20250617T121238Z
UID:4264-1761091200-1761350399@www.europeanrhinologicsociety.org
SUMMARY:34th International Course in Advanced Rhinoplasty Techniques Utrecht
DESCRIPTION:The course is offered for continuing medical education of residents\, fellows and practicing physicians. The international and multidisciplinary faculty will lead the participants from the consultation to the management of the most challenging rhinoplasty- and facial plastic procedures. This will be accomplished with didactic lectures\, expert panels and a hands-on fresh frozen cadaver dissection lab.
URL:https://www.europeanrhinologicsociety.org/event/34th-international-course-in-advanced-rhinoplasty-techniques-utrecht/
LOCATION:Utrecht\, Utrecht\, Utrecht\, Netherlands
CATEGORIES:Courses
ORGANIZER;CN="Dirk%20Jan%20Menger":MAILTO:info@advancedrhinoplasty.nl
END:VEVENT
END:VCALENDAR