BEGIN:VCALENDAR
VERSION:2.0
PRODID:-//European Rhinologic Society - ECPv6.1.3//NONSGML v1.0//EN
CALSCALE:GREGORIAN
METHOD:PUBLISH
X-ORIGINAL-URL:https://www.europeanrhinologicsociety.org
X-WR-CALDESC:Events for European Rhinologic Society
REFRESH-INTERVAL;VALUE=DURATION:PT1H
X-Robots-Tag:noindex
X-PUBLISHED-TTL:PT1H
BEGIN:VTIMEZONE
TZID:UTC
BEGIN:STANDARD
TZOFFSETFROM:+0000
TZOFFSETTO:+0000
TZNAME:UTC
DTSTART:20250101T000000
END:STANDARD
END:VTIMEZONE
BEGIN:VEVENT
DTSTART;VALUE=DATE:20251009
DTEND;VALUE=DATE:20251011
DTSTAMP:20260421T102414
CREATED:20241207T084830Z
LAST-MODIFIED:20241207T084830Z
UID:4154-1759968000-1760140799@www.europeanrhinologicsociety.org
SUMMARY:19th Annual International Copenhagen Advanced FESS and Anterior Skull Base Dissection Course
DESCRIPTION:Elevate Your Surgical Expertise at the 19th Copenhagen Advanced FESS and Anterior Skull Base Dissection Course!\nImmerse yourself in a learning experience that combines cutting-edge techniques with hands-on fresh-frozen cadaver dissection\, including navigation for each cadaver. Led by a renowned international faculty of passionate experts\, this course provides comprehensive training in endoscopic sinus and anterior skull base surgery. \nWith a focus on short theoretical lectures paired with cadaver dissection\, the program maximizes hands-on learning opportunities to refine your surgical skills effectively.
URL:https://www.europeanrhinologicsociety.org/event/19th-annual-international-copenhagen-advanced-fess-and-anterior-skull-base-dissection-course/
LOCATION:Copenhagen\, Denmark\, Denmark
CATEGORIES:Courses
ORGANIZER;CN="Christian%20von%20Buchwald%20and%20Mads%20Guldager":MAILTO:secretary@entcopenhagen.com
END:VEVENT
END:VCALENDAR