BEGIN:VCALENDAR
VERSION:2.0
PRODID:-//European Rhinologic Society - ECPv6.1.3//NONSGML v1.0//EN
CALSCALE:GREGORIAN
METHOD:PUBLISH
X-WR-CALNAME:European Rhinologic Society
X-ORIGINAL-URL:https://www.europeanrhinologicsociety.org
X-WR-CALDESC:Events for European Rhinologic Society
REFRESH-INTERVAL;VALUE=DURATION:PT1H
X-Robots-Tag:noindex
X-PUBLISHED-TTL:PT1H
BEGIN:VTIMEZONE
TZID:UTC
BEGIN:STANDARD
TZOFFSETFROM:+0000
TZOFFSETTO:+0000
TZNAME:UTC
DTSTART:20250101T000000
END:STANDARD
END:VTIMEZONE
BEGIN:VEVENT
DTSTART;VALUE=DATE:20250910
DTEND;VALUE=DATE:20250913
DTSTAMP:20260421T114739
CREATED:20241108T055059Z
LAST-MODIFIED:20241108T055059Z
UID:4121-1757462400-1757721599@www.europeanrhinologicsociety.org
SUMMARY:35th international FESS-course
DESCRIPTION:This course features: ​\n-6 modules of problem based dissections.\n-Each module consits of lectures on pathophysiology\, indications for surgery and surgical approach\, followed by a demonstration dissection and hands on Cadaver workshop.\n-more 18 hours fully equipped Hands-on Cadaver Head Workshop\, with powered instrumentation and navigation (2 delegates per Thiel embalmed cadaver head)\n-3D anatomy and lectures by keynote speakers
URL:https://www.europeanrhinologicsociety.org/event/35th-international-fess-course/
LOCATION:ghent\, Ghent\, Belgium
CATEGORIES:Courses
ORGANIZER;CN="Prof.%20dr.%20Thibaut%20Van%20Zele":MAILTO:fess@semico.be
END:VEVENT
BEGIN:VEVENT
DTSTART;VALUE=DATE:20250910
DTEND;VALUE=DATE:20250913
DTSTAMP:20260421T114739
CREATED:20250427T170123Z
LAST-MODIFIED:20250427T170123Z
UID:4246-1757462400-1757721599@www.europeanrhinologicsociety.org
SUMMARY:The Liverpool Advanced FESS Course Description
DESCRIPTION:This course builds on the foundations laid at the Sinus Anatomy and Surgery Instructional Course and is therefore a seemless transition for those who have previously attended the basic course. The Advanced FESS Course is tailored to ENT doctors (ST6 – ST8\, Speciality Doctors\, Associate Specialists\, Senior Clinical Fellows) who are at the latter part of their training or require training in more advanced endoscopic sinus procedures. The course programme is designed to be clincally-focused and is aligned to the ISCP ENT curriculum. The course aims to enhance existing competencies with particular emphasis on safe techniques in endoscopic sinus surgery. The surgical concepts of the Full-House FESS will be taught\, as will peri-operative management to optimise clinical outcomes. In addition\, the course programme will include CSF leak repair\, introduction to frontal sinus surgery and management of intra-operative complications. Unlike other courses\, the CSF leak module simulates an active leak thereby enhancing the realism of this training module. The course programme is mapped to the ISCP curriculum and includes up to 14 hours in the laboratory. Delegates will have assigned trainers throughout the course and are expected to be assessed against relevant endoscopic sinus surgery simulated PBAs on the ISCP curriculum. The programme provides ample time for paced\, structured learning as well as close interaction with experienced faculty to achieve professional development goals necessary for all senior ENT trainees and generalists. Surgical dissection will be undertaken on Fusetec 3-D printed models in the state-of-the-art Human Anatomy and Resource Centre of the University of Liverpool. The course is limited to 30 hands-on spaces and due to the unique nature of this course\, early registration is recommended.
URL:https://www.europeanrhinologicsociety.org/event/the-liverpool-advanced-fess-course-description/
LOCATION:Liverpool\, United Kingdom
CATEGORIES:Courses
ORGANIZER;CN="Mr.%20Samuel%20Leong":MAILTO:horned@liverpool.ac.uk
END:VEVENT
END:VCALENDAR