BEGIN:VCALENDAR
VERSION:2.0
PRODID:-//European Rhinologic Society - ECPv6.1.3//NONSGML v1.0//EN
CALSCALE:GREGORIAN
METHOD:PUBLISH
X-WR-CALNAME:European Rhinologic Society
X-ORIGINAL-URL:https://www.europeanrhinologicsociety.org
X-WR-CALDESC:Events for European Rhinologic Society
REFRESH-INTERVAL;VALUE=DURATION:PT1H
X-Robots-Tag:noindex
X-PUBLISHED-TTL:PT1H
BEGIN:VTIMEZONE
TZID:UTC
BEGIN:STANDARD
TZOFFSETFROM:+0000
TZOFFSETTO:+0000
TZNAME:UTC
DTSTART:20250101T000000
END:STANDARD
END:VTIMEZONE
BEGIN:VEVENT
DTSTART;VALUE=DATE:20250710
DTEND;VALUE=DATE:20250811
DTSTAMP:20260421T125629
CREATED:20241114T235833Z
LAST-MODIFIED:20241114T235833Z
UID:4128-1752105600-1754870399@www.europeanrhinologicsociety.org
SUMMARY:5th European  Frontal Sinus Masterclass
DESCRIPTION:This intensive two-day masterclass in Frontal Sinus Surgery will focus on frontal sinus dissection using cutting edge 3D printed anatomical models. Our multi-material models provide different anatomical grades of frontal sinus complexity and therefore enable the participants to approach the frontal sinus in a stepwise approach. This workshop will mainly concentrate on the hands-on-step-by step-surgical dissection performed by the participants with close supervision from world renowned faculty. Each dissector will undertake up to of 5 frontal Dissections and 2 Modified Endoscopic Lothrop / Draf 3 procedures. There will be a focus on powered instrumentation in endoscopic sinus surgery elaborating the advantages and risks of this surgical technique.
URL:https://www.europeanrhinologicsociety.org/event/5th-european-frontal-sinus-masterclass/
LOCATION:Wien\, Wien\, Austria
CATEGORIES:Courses
ORGANIZER;CN="Prof%20%20Dr.%20Erich%20Vyskocil":MAILTO:claire.zwerina@uniklinikum.kages.at
END:VEVENT
END:VCALENDAR