BEGIN:VCALENDAR
VERSION:2.0
PRODID:-//European Rhinologic Society - ECPv6.1.3//NONSGML v1.0//EN
CALSCALE:GREGORIAN
METHOD:PUBLISH
X-WR-CALNAME:European Rhinologic Society
X-ORIGINAL-URL:https://www.europeanrhinologicsociety.org
X-WR-CALDESC:Events for European Rhinologic Society
REFRESH-INTERVAL;VALUE=DURATION:PT1H
X-Robots-Tag:noindex
X-PUBLISHED-TTL:PT1H
BEGIN:VTIMEZONE
TZID:UTC
BEGIN:STANDARD
TZOFFSETFROM:+0000
TZOFFSETTO:+0000
TZNAME:UTC
DTSTART:20250101T000000
END:STANDARD
END:VTIMEZONE
BEGIN:VEVENT
DTSTART;VALUE=DATE:20250617
DTEND;VALUE=DATE:20250620
DTSTAMP:20260421T154005
CREATED:20251217T095707Z
LAST-MODIFIED:20251217T095911Z
UID:4499-1750118400-1750377599@www.europeanrhinologicsociety.org
SUMMARY:26th Course on Reconstructive and Aesthetic Surgery of the Nose and Face
DESCRIPTION:Rhinoplasty\, Transposition flaps\, Nasal reconstruction\, Otoplasty\, Blepharoplasty\, Brow lift\, Rhytidoplasty and Facelift. These techniques are explained step by step by a multidisiciplinary international faculty of experts. After each presentation you will practice a technique hands on. Instead of employing chemicals to preserve bodies\, the bodies are fresh frozen and brought to room temperature\, providing the feel and texture of facial soft issue. You will be practicing the techniques with only two participants per body. \nMore details
URL:https://www.europeanrhinologicsociety.org/event/26th-course-on-reconstructive-and-aesthetic-surgery-of-the-nose-and-face/
LOCATION:Nijmegen\, Netherlands
CATEGORIES:Courses
ORGANIZER;CN="Niels%20van%20Heerbeek":MAILTO:Yvonne.Savelkoul-Broekman@radboudumc.nl
END:VEVENT
END:VCALENDAR