BEGIN:VCALENDAR
VERSION:2.0
PRODID:-//European Rhinologic Society - ECPv6.1.3//NONSGML v1.0//EN
CALSCALE:GREGORIAN
METHOD:PUBLISH
X-ORIGINAL-URL:https://www.europeanrhinologicsociety.org
X-WR-CALDESC:Events for European Rhinologic Society
REFRESH-INTERVAL;VALUE=DURATION:PT1H
X-Robots-Tag:noindex
X-PUBLISHED-TTL:PT1H
BEGIN:VTIMEZONE
TZID:UTC
BEGIN:STANDARD
TZOFFSETFROM:+0000
TZOFFSETTO:+0000
TZNAME:UTC
DTSTART:20250101T000000
END:STANDARD
END:VTIMEZONE
BEGIN:VEVENT
DTSTART;VALUE=DATE:20250429
DTEND;VALUE=DATE:20250501
DTSTAMP:20260421T171807
CREATED:20241115T000154Z
LAST-MODIFIED:20241115T000154Z
UID:4131-1745884800-1746057599@www.europeanrhinologicsociety.org
SUMMARY:The sinus anatomy and surgery instructional course
DESCRIPTION:The course aims to enhance existing competencies with particular emphasis on safe surgery for the maxillary\, ethmoid and sphenoid sinuses. Unlike other courses\, advanced frontal sinus (e.g. drillout) and endoscopic skull base surgery techniques are not covered in this course. Thus\, the programme provides ample time for paced\, structured learning as well as close interaction with experienced faculty to achieve professional development goals necessary for all ENT trainees and generalists.
URL:https://www.europeanrhinologicsociety.org/event/the-sinus-anatomy-and-surgery-instructional-course/
LOCATION:Berkshire\, KARL STORZ Endoscopy. Slough Berkshire United Kingdom\, Berkshire\, United Kingdom
CATEGORIES:Courses
END:VEVENT
END:VCALENDAR