BEGIN:VCALENDAR
VERSION:2.0
PRODID:-//European Rhinologic Society - ECPv6.1.3//NONSGML v1.0//EN
CALSCALE:GREGORIAN
METHOD:PUBLISH
X-ORIGINAL-URL:https://www.europeanrhinologicsociety.org
X-WR-CALDESC:Events for European Rhinologic Society
REFRESH-INTERVAL;VALUE=DURATION:PT1H
X-Robots-Tag:noindex
X-PUBLISHED-TTL:PT1H
BEGIN:VTIMEZONE
TZID:UTC
BEGIN:STANDARD
TZOFFSETFROM:+0000
TZOFFSETTO:+0000
TZNAME:UTC
DTSTART:20240101T000000
END:STANDARD
END:VTIMEZONE
BEGIN:VEVENT
DTSTART;VALUE=DATE:20240522
DTEND;VALUE=DATE:20240526
DTSTAMP:20260422T085905
CREATED:20231111T064133Z
LAST-MODIFIED:20231213T060326Z
UID:3815-1716336000-1716681599@www.europeanrhinologicsociety.org
SUMMARY:Thessaloniki Rhinodays 2024
DESCRIPTION:In a period of 4 days we will accommodate two international courses\, one in rhinoplasty (2 days) and one endoscopic sinus surgery (2 days) with national and international faculty. There is a significant discount if one chooses to do both! \nUNDER AUSPICES OF ERS \nRhinoplasty course\, May 22-23\, 2024\nEndoscopic sinus surgery course\, May 24-25\, 2024 \nScientific Programme V1
URL:https://www.europeanrhinologicsociety.org/event/thessaloniki-rhinodays-2024/
LOCATION:Thessaloniki\, Greece\, Thessaloniki\, Greece
CATEGORIES:Courses
ORGANIZER;CN="Professor%20Jannis%20Constantinidis":MAILTO:rhinodays2024@frei.gr
END:VEVENT
END:VCALENDAR