BEGIN:VCALENDAR
VERSION:2.0
PRODID:-//European Rhinologic Society - ECPv6.1.3//NONSGML v1.0//EN
CALSCALE:GREGORIAN
METHOD:PUBLISH
X-ORIGINAL-URL:https://www.europeanrhinologicsociety.org
X-WR-CALDESC:Events for European Rhinologic Society
REFRESH-INTERVAL;VALUE=DURATION:PT1H
X-Robots-Tag:noindex
X-PUBLISHED-TTL:PT1H
BEGIN:VTIMEZONE
TZID:UTC
BEGIN:STANDARD
TZOFFSETFROM:+0000
TZOFFSETTO:+0000
TZNAME:UTC
DTSTART:20230101T000000
END:STANDARD
END:VTIMEZONE
BEGIN:VEVENT
DTSTART;VALUE=DATE:20231102
DTEND;VALUE=DATE:20231104
DTSTAMP:20260422T175015
CREATED:20230708T204207Z
LAST-MODIFIED:20230708T204207Z
UID:3566-1698883200-1699055999@www.europeanrhinologicsociety.org
SUMMARY:18th Copenhagen Advanced FESS and Anterior Skull Base course
DESCRIPTION:This course is aimed at rhinologists interested in developing their knowledge and surgical skills in endoscopic sinus – and skull-base surgery. The course consists of lectures with theory\, but the main focus is on live demo dissections by the faculty\, followed by delegates performing dissections. The aim is to provide a comprehensive overview of external and endoscopic transnasal approaches to – and beyond the sinuses and anterior skull base. The focus of the course will be adapted to the delegates’ experience prior to the course. \nTwo delegates will share one cadaver.
URL:https://www.europeanrhinologicsociety.org/event/18th-copenhagen-advanced-fess-and-anterior-skull-base-course/
LOCATION:Copenhagen\, Denmark\, Denmark
CATEGORIES:Courses
ORGANIZER;CN="Christian%20von%20Buchwald%2C%20Professor%2C%20MD%2C%20DMSc.":MAILTO:vivian.soennicksen@regionh.dk
END:VEVENT
END:VCALENDAR