BEGIN:VCALENDAR
VERSION:2.0
PRODID:-//European Rhinologic Society - ECPv6.1.3//NONSGML v1.0//EN
CALSCALE:GREGORIAN
METHOD:PUBLISH
X-WR-CALNAME:European Rhinologic Society
X-ORIGINAL-URL:https://www.europeanrhinologicsociety.org
X-WR-CALDESC:Events for European Rhinologic Society
REFRESH-INTERVAL;VALUE=DURATION:PT1H
X-Robots-Tag:noindex
X-PUBLISHED-TTL:PT1H
BEGIN:VTIMEZONE
TZID:UTC
BEGIN:STANDARD
TZOFFSETFROM:+0000
TZOFFSETTO:+0000
TZNAME:UTC
DTSTART:20230101T000000
END:STANDARD
END:VTIMEZONE
BEGIN:VEVENT
DTSTART;VALUE=DATE:20230920
DTEND;VALUE=DATE:20230922
DTSTAMP:20260422T210526
CREATED:20230125T191532Z
LAST-MODIFIED:20230125T191532Z
UID:3371-1695168000-1695340799@www.europeanrhinologicsociety.org
SUMMARY:12th Interdisciplinary Endoscopic Skull Base Surgery Course
DESCRIPTION:Skull Base Surgery underwent significant changes during the last decades. The increasing advancements in the fields of neurosurgery and otorhinolaryngology have challenged surgeons from both specialties to keep up with the rapid technological progress such as operations based on 4K or 3D endoscopy and robotic-assisted skull base surgery. The skull base represents the interface of an intense interdisciplinary collaboration between otorhinolaryngology and neurosurgery. Therefore\, this course focuses on the complex anatomy of the skull base and adjacent anatomical structures\, i.e. sinuses and orbit\, as well as surgical treatment strategies for lesions in this challenging area. Being the highlight of this course\, participants will spend 15 hours of hands-on training on cadavers. An excellent international faculty from Graz\, Erfurt\, Munich\, Brescia\, Padua\, Varese\, and Essen will provide an intensive step-by-step teaching. Additionally\, an outstanding technical support including real time navigation for all specimens\, HD/3D visualization\, 4K endoscopy\, robotic systems as well as high speed drills will be available.
URL:https://www.europeanrhinologicsociety.org/event/12th-interdisciplinary-endoscopic-skull-base-surgery-course/
LOCATION:Essen\, Germany\, Hufelandstrasse 55\, Essen\, Essen\, Germany
CATEGORIES:Courses
ATTACH;FMTTYPE=image/jpeg:https://www.europeanrhinologicsociety.org/wp-content/uploads/2022/12/pexels-pixabay-40568-scaled.jpg
ORGANIZER;CN="Prof.%20Dr.%20med.%20S.%20Lang%20and%20Prof.%20Dr.%20med.%20S.%20Mattheis":MAILTO:fortbildung.hno@uk-essen.de
END:VEVENT
END:VCALENDAR