BEGIN:VCALENDAR
VERSION:2.0
PRODID:-//European Rhinologic Society - ECPv6.1.3//NONSGML v1.0//EN
CALSCALE:GREGORIAN
METHOD:PUBLISH
X-ORIGINAL-URL:https://www.europeanrhinologicsociety.org
X-WR-CALDESC:Events for European Rhinologic Society
REFRESH-INTERVAL;VALUE=DURATION:PT1H
X-Robots-Tag:noindex
X-PUBLISHED-TTL:PT1H
BEGIN:VTIMEZONE
TZID:UTC
BEGIN:STANDARD
TZOFFSETFROM:+0000
TZOFFSETTO:+0000
TZNAME:UTC
DTSTART:20230101T000000
END:STANDARD
END:VTIMEZONE
BEGIN:VEVENT
DTSTART;VALUE=DATE:20230918
DTEND;VALUE=DATE:20230920
DTSTAMP:20260422T210749
CREATED:20230417T084643Z
LAST-MODIFIED:20230510T095223Z
UID:3522-1694995200-1695167999@www.europeanrhinologicsociety.org
SUMMARY:The 1st Liverpool Nasolacrimal and Orbital Dissection Course
DESCRIPTION:This course is aimed at Otorhinolaryngology (ENT) and Ophthalmology higher surgical trainees (ST5-ST8)\, senior fellows and consultants looking to improve their understanding and surgical skills in joint ENT/ophthalmology nasolacrimal and orbital surgeries. \nThe aim of this course is to provide a comprehensive applied anatomy overview and essential surgical skills in external and transnasal endoscopic approaches. This unique course has been designed to optimise cross-pollination of skill sets across both surgical subspecialties.
URL:https://www.europeanrhinologicsociety.org/event/the-1st-liverpool-nasolacrimal-and-orbital-dissection-course/
LOCATION:Liverpool\, United Kingdom
CATEGORIES:Courses
ORGANIZER;CN="Ann-Louise%20McDermott%2C%20%20Austin%20McCormic%2C%20Grace%20Khong%2C%20Ravi%20Sharma%2C%20Samuel%20Leong":MAILTO:LiverpoolNasolacrimalCourse@gmail.com
END:VEVENT
END:VCALENDAR