BEGIN:VCALENDAR
VERSION:2.0
PRODID:-//European Rhinologic Society - ECPv6.1.3//NONSGML v1.0//EN
CALSCALE:GREGORIAN
METHOD:PUBLISH
X-ORIGINAL-URL:https://www.europeanrhinologicsociety.org
X-WR-CALDESC:Events for European Rhinologic Society
REFRESH-INTERVAL;VALUE=DURATION:PT1H
X-Robots-Tag:noindex
X-PUBLISHED-TTL:PT1H
BEGIN:VTIMEZONE
TZID:UTC
BEGIN:STANDARD
TZOFFSETFROM:+0000
TZOFFSETTO:+0000
TZNAME:UTC
DTSTART:20230101T000000
END:STANDARD
END:VTIMEZONE
BEGIN:VEVENT
DTSTART;VALUE=DATE:20230503
DTEND;VALUE=DATE:20230505
DTSTAMP:20260423T044120
CREATED:20230312T045516Z
LAST-MODIFIED:20230312T052306Z
UID:3495-1683072000-1683244799@www.europeanrhinologicsociety.org
SUMMARY:EUSICA/COST (IMMUNOmodel)
DESCRIPTION:Joint EUSICA + IMMUNOmodel Workshop: \nFostering collaboration to advance sinonasal cancer research \n\n\nMay 3-4\, 2023. The University of Copenhagen\, Copenhagen\, Denmark \n______________________________________________ \n\nDear Colleagues and Friends\, \nWe cordially invite you to join us for the Joint EUSICA + IMMUNOmodel workshop at the University of Copenhagen\, Copenhagen\, Denmark\, on May 3 and May 4\, 2023. \nRegistration for the meeting is now open. \nFollow link: \nAttendee: Registration (Attendee) \nWe have worked hard to ensure that we can offer you an exciting program covering a wide range of exciting topics in the field of sinonasal cancer research. Moreover\, this is a networking opportunity\, and there will be plenty of time to discuss future collaborations and learn from colleagues worldwide. \nIMMUNO-model aims to establish a network of scientists involved in developing and implementing preclinical models evaluating the response and toxicity induced by immunotherapies to expand our knowledge of their mechanisms of action and improve the survival and quality of life of cancer patients. We believe this is an excellent opportunity to synergize and foster research in the field of sinonasal cancers\, and we are looking for future collaborations. \nPlease see a copy of the program attached. This includes the timings of sessions and details on the main social event on the evening of May 3. \nThis is a non-profit meeting. The attendance fee of 295 euros covers the costs for the venue\, refreshments\, lunch\, and the networking dinner. Please pay during the registration via the above link. \nThere will be limited spaces due to the size of the venue\, so please register and secure your place as soon as possible; the cap of the physical meeting will be 96 attendees. \nVirtual attendance will also be possible. This will still require online registration. However\, this will be free of charge; there will be a cap of 100 virtual attendees. \nDeadline for registration: March 31\, 2023 \nCopenhagen is a great place. We hope you will have time to explore the charming capital of Denmark and enjoy the fabulous food\, the famous Nordic architecture and design\, and many of its innovative green solutions that drive the transition to a sustainable\, resource-efficient\, and low-carbon society. There will be plenty of opportunities to get an authentic Danish experience\, and we will be happy to provide you with some ideas of things to do (https://www.visitcopenhagen.com/). \nWe look forward to seeing you in Copenhagen in May! \nA Separate email will be sent to the speakers. \n\nVery best wishes\, \n\nThe Organizing Committee: \nChristian von Buchwald\, Department of Otorhinolaryngology\, Head and Neck Surgery & Audiology\, Rigshospitalet\, Copenhagen\, Denmark \nEva Martinez-Balibrea\, Resistance\, Chemotherapy and Predictive Biomarkers group\, Catalan institute of Oncology and Germans Trias i Pufol research Institute\, Badalona\, Spain \nMatt Lechner\, Division of Surgery and Interventional Science and UCL Cancer Institute\, University College London\, London\, UK \nMario Hermsen\, Sinonasal Team\, Department of Head and Neck Cancer\, Instituto de Investigación Sanitaria del Principado de Asturias (ISPA)\, Spain \nLeticia Oliveira Ferrer\, Head of the Gynecology Research Lab\, Department of Gynecology\, University Medical Center Hamburg-Eppendorf\, Hamburg\, Germany \nAnnalisa Trama\, Fondazione IRCCS Istituto Nazionale dei Tumori di Milano\, Milan\, Italy \nJohannes Haybäck\, Institute of Pathology\, Neuropathology and Molecular Pathology\, Medical University of Innsbruck\, Austria. \nPatrick René Gerhard Eriksen\, Department of Otorhinolaryngology\, Head and Neck Surgery & Audiology\, Rigshospitalet\, Copenhagen\, Denmark
URL:https://www.europeanrhinologicsociety.org/event/eusica-cost-immunomodel/
LOCATION:Copenhagen\, The Faculty of Health and Medical Sciences\, Copenhagen University\, Copenhagen\, Denmark\, Copenhagen\, Denmark
CATEGORIES:Congresses,Courses
END:VEVENT
BEGIN:VEVENT
DTSTART;VALUE=DATE:20230503
DTEND;VALUE=DATE:20230507
DTSTAMP:20260423T044120
CREATED:20230125T190723Z
LAST-MODIFIED:20230125T190751Z
UID:3355-1683072000-1683417599@www.europeanrhinologicsociety.org
SUMMARY:Rhinodays 2023
DESCRIPTION:Rhinoplasty course\, May 3-4\, 2023 There is no doubt that the functional and aesthetic surgery of the nose is a complex operation with a difficult learning curve and will always be a challenge for every Otorhinolaryngologist\, Plastic Surgeon and Maxillofacial Surgeon. The programme is structured in such a way that participants will be able to learn the basic techniques but will be also updated on the latest more advanced techniques of rhinoplasty. Dissection on fresh frozen specimens will provide training in surgical skills for the first 20 registered participants. Video sessions\, case presentations\, injectables and fillers in and around the nose will be organized by and discussed with the experts. Endoscopic sinus surgery course\, May 5-6\, 2023 Endoscopic Sinus Surgery (ESS) has been evolving with tremendous speed over the last three decades. As expected\, the demand for training in the endoscopic techniques is continuously growing. Participants will learn and improve their skills in ESS through lectures and cadaver dissections (for the first 20 registered). In the lab\, participants will familiarize themselves with different applications of powered instrumentation. All lab stations will have image guidance. We will try to meet the training needs of all participants\, by tailoring their dissection plan according to their individual needs and training level (a questionnaire will be sent before the course). \nIn a period of 4 days we will accommodate two international courses\, one in rhinoplasty (2 days) and one endoscopic sinus surgery (2 days) with national and international faculty. There is a significant discount if one chooses to do both! The courses will be organized in co-operation with the 1st Academic ENT Department at Aristotle University of Thessaloniki and the Hellenic Rhinologic and Facial Plastic Society and are under the auspices of the European Rhinologic Society (ERS) and the European Academy of Facial Plastic Surgery (EAFPS).
URL:https://www.europeanrhinologicsociety.org/event/rhinodays-2023/
LOCATION:Thessaloniki\, Greece\, Thessaloniki\, Greece
CATEGORIES:Courses
ATTACH;FMTTYPE=image/jpeg:https://www.europeanrhinologicsociety.org/wp-content/uploads/2022/12/pexels-pixabay-40568-scaled.jpg
ORGANIZER;CN="Jannis%20Costantinidis%20and%20Christos%20Georgalas":MAILTO:rhinodays2023@frei.gr
END:VEVENT
END:VCALENDAR