BEGIN:VCALENDAR
VERSION:2.0
PRODID:-//European Rhinologic Society - ECPv6.1.3//NONSGML v1.0//EN
CALSCALE:GREGORIAN
METHOD:PUBLISH
X-ORIGINAL-URL:https://www.europeanrhinologicsociety.org
X-WR-CALDESC:Events for European Rhinologic Society
REFRESH-INTERVAL;VALUE=DURATION:PT1H
X-Robots-Tag:noindex
X-PUBLISHED-TTL:PT1H
BEGIN:VTIMEZONE
TZID:UTC
BEGIN:STANDARD
TZOFFSETFROM:+0000
TZOFFSETTO:+0000
TZNAME:UTC
DTSTART:20230101T000000
END:STANDARD
END:VTIMEZONE
BEGIN:VEVENT
DTSTART;VALUE=DATE:20230215
DTEND;VALUE=DATE:20230218
DTSTAMP:20260423T090856
CREATED:20221207T180903Z
LAST-MODIFIED:20221208T184021Z
UID:3042-1676419200-1676678399@www.europeanrhinologicsociety.org
SUMMARY:4rd Erlangen Interdisciplinary Course for Microscopic and Endoscopic Surgery of the Anterior and Lateral Skull Base 2023
DESCRIPTION:Topics: The anatomic region of the skull base is complex and poses surgical challenges for otolaryngologists and neurosurgeons alike. To treat the various conditions that can affect the skull base\, a highly specialized set of surgical procedures is needed. In most cases\, lesions lie in close proximity to vital structures what makes skull base surgery very challenging. In up to 18 hours practical training over three days\, we will give you the opportunity to gain excellent knowledge about skull base anatomy and the different kinds of approaches. We would like to give you the chance to learn from experienced colleagues\, and to look beyond the horizon of your own specialty.
URL:https://www.europeanrhinologicsociety.org/event/4rd-erlangen-interdisciplinary-course-for-microscopic-and-endoscopic-surgery-of-the-anterior-and-lateral-skull-base-2023/
LOCATION:Erlangen\, Germany\, Erlangen\, Germany
CATEGORIES:Courses
ATTACH;FMTTYPE=image/jpeg:https://www.europeanrhinologicsociety.org/wp-content/uploads/2022/12/pexels-pixabay-40568-scaled.jpg
ORGANIZER;CN="hno-kurssekretariat%40uk-erlangen.de%E2%80%8B%E2%80%8B%E2%80%8B%E2%80%8B%E2%80%8B%E2%80%8B%E2%80%8B%E2%80%8B%E2%80%8B%E2%80%8B%E2%80%8B%E2%80%8B%E2%80%8B%E2%80%8B":MAILTO:hno-kurssekretariat@uk-erlangen.de​​​​​​​​​​​​​​
END:VEVENT
END:VCALENDAR