BEGIN:VCALENDAR
VERSION:2.0
PRODID:-//European Rhinologic Society - ECPv6.1.3//NONSGML v1.0//EN
CALSCALE:GREGORIAN
METHOD:PUBLISH
X-WR-CALNAME:European Rhinologic Society
X-ORIGINAL-URL:https://www.europeanrhinologicsociety.org
X-WR-CALDESC:Events for European Rhinologic Society
REFRESH-INTERVAL;VALUE=DURATION:PT1H
X-Robots-Tag:noindex
X-PUBLISHED-TTL:PT1H
BEGIN:VTIMEZONE
TZID:UTC
BEGIN:STANDARD
TZOFFSETFROM:+0000
TZOFFSETTO:+0000
TZNAME:UTC
DTSTART:20250101T000000
END:STANDARD
END:VTIMEZONE
BEGIN:VEVENT
DTSTART;VALUE=DATE:20250514
DTEND;VALUE=DATE:20250518
DTSTAMP:20260421T153722
CREATED:20241207T085745Z
LAST-MODIFIED:20241207T085745Z
UID:4162-1747180800-1747526399@www.europeanrhinologicsociety.org
SUMMARY:Thessaloniki Rhinodays 2025
DESCRIPTION:Rhinoplasty course\, May 14-15\, 2025 There is no doubt that the functional and aesthetic surgery of the nose is a complex operation with a difficult learning curve and will always be a challenge for every Otorhinolaryngologist\, Plastic Surgeon and Maxillofacial Surgeon. \nEndoscopic Sinus Surgery (ESS) has been evolving with tremendous speed over the last three decades. As expected\, the demand for training in the endoscopic techniques is continuously growing. Participants will learn and improve their skills in ESS through lectures and cadaver dissections (for the first 26 registered). In the lab\, participants will familiarize themselves with different applications of powered instrumentation. All lab stations will have image guidance.
URL:https://www.europeanrhinologicsociety.org/event/thessaloniki-rhinodays-2025/
CATEGORIES:Courses
ORGANIZER;CN="Thessaloniki%2C":MAILTO:info@frei.gr
END:VEVENT
BEGIN:VEVENT
DTSTART;VALUE=DATE:20250521
DTEND;VALUE=DATE:20250524
DTSTAMP:20260421T153723
CREATED:20241127T002653Z
LAST-MODIFIED:20241127T003419Z
UID:4149-1747785600-1748044799@www.europeanrhinologicsociety.org
SUMMARY:Course European Rhinoplasty Course 2025
DESCRIPTION:The programme has been elaborated in such a way that participants will be updated on the latest techniques of rhinoplasty. The programme aims to be of huge interest to all surgeons dealing with patients seeking rhinoplasty: ENT\, plastic\, and maxillofacial surgeons \nDissection facilities on fresh frozen specimens will be foreseen for the first 40 registered participants. A highly interactive non-dissection programme will be organised for the non-dissection participants with a small group of experts\, discussing and analyzing videos & techniques of rhinoplasty. A workshop including filler and toxin injections will be organized for all participants.
URL:https://www.europeanrhinologicsociety.org/event/course-european-rhinoplasty-course-2025/
LOCATION:Brussels\, Brussels\, Belgium
CATEGORIES:Courses
ORGANIZER;CN="Professor%20Dr%20Peter%20Hellings":MAILTO:contact@euforea.eu
END:VEVENT
END:VCALENDAR