BEGIN:VCALENDAR
VERSION:2.0
PRODID:-//European Rhinologic Society - ECPv6.1.3//NONSGML v1.0//EN
CALSCALE:GREGORIAN
METHOD:PUBLISH
X-ORIGINAL-URL:https://www.europeanrhinologicsociety.org
X-WR-CALDESC:Events for European Rhinologic Society
REFRESH-INTERVAL;VALUE=DURATION:PT1H
X-Robots-Tag:noindex
X-PUBLISHED-TTL:PT1H
BEGIN:VTIMEZONE
TZID:UTC
BEGIN:STANDARD
TZOFFSETFROM:+0000
TZOFFSETTO:+0000
TZNAME:UTC
DTSTART:20250101T000000
END:STANDARD
END:VTIMEZONE
BEGIN:VEVENT
DTSTART;VALUE=DATE:20250306
DTEND;VALUE=DATE:20250309
DTSTAMP:20260421T184320
CREATED:20240723T071643Z
LAST-MODIFIED:20240723T071802Z
UID:4038-1741219200-1741478399@www.europeanrhinologicsociety.org
SUMMARY:Course Mayo Clinic Tackling Problematic Sinusitis 2025
DESCRIPTION:Join Mayo Clinic and national and international experts as we discuss and debate the etiology and management of sinus disease. Course topics include medical therapeutics\, biologics and surgical techniques for chronic sinusitis\, tumors\, smell loss and rhinologic conditions including rhinitis and epistaxis. \nMore details
URL:https://www.europeanrhinologicsociety.org/event/course-mayo-clinic-tackling-problematic-sinusitis-2025/
LOCATION:Hilton North Scottsdale at Cavasson Scottsdale\, AZ
CATEGORIES:Courses
ORGANIZER;CN="Angela%20M.%20Donaldson%20M.D.%20Devyani%20Lal%2C%20M.D.%20Erin%20K.%20O%E2%80%99Brien%2C%20M.D.%20Matthew%20A.%20Rank%2C%20M.D.":MAILTO:cme@mayo.edu
END:VEVENT
BEGIN:VEVENT
DTSTART;VALUE=DATE:20250325
DTEND;VALUE=DATE:20250329
DTSTAMP:20260421T184320
CREATED:20241106T064310Z
LAST-MODIFIED:20241106T064310Z
UID:4113-1742860800-1743206399@www.europeanrhinologicsociety.org
SUMMARY:25th International Course on Reconstructive and Aesthetic Surgery of the Nose and Face
DESCRIPTION:Rhinoplasty\, Transposition flaps\, Nasal reconstruction\, Otoplasty\, Blepharoplasty\, Brow lift\, Rhytidoplasty and Facelift.These techniques are explained step by step by a multidisciplinary international faculty of experts.
URL:https://www.europeanrhinologicsociety.org/event/25th-international-course-on-reconstructive-and-aesthetic-surgery-of-the-nose-and-face/
LOCATION:Radboud university medical center\, Nijmegen\, The Netherlands\, Netherlands
CATEGORIES:Courses
ORGANIZER;CN="Dr.%20Koen%20Ingels%20and%20Dr.%20Niels%20van%20Heerbeek":MAILTO:yvonne.savelkoul-broekman@radboudumc.nl
END:VEVENT
END:VCALENDAR