BEGIN:VCALENDAR
VERSION:2.0
PRODID:-//European Rhinologic Society - ECPv6.1.3//NONSGML v1.0//EN
CALSCALE:GREGORIAN
METHOD:PUBLISH
X-ORIGINAL-URL:https://www.europeanrhinologicsociety.org
X-WR-CALDESC:Events for European Rhinologic Society
REFRESH-INTERVAL;VALUE=DURATION:PT1H
X-Robots-Tag:noindex
X-PUBLISHED-TTL:PT1H
BEGIN:VTIMEZONE
TZID:UTC
BEGIN:STANDARD
TZOFFSETFROM:+0000
TZOFFSETTO:+0000
TZNAME:UTC
DTSTART:20240101T000000
END:STANDARD
END:VTIMEZONE
BEGIN:VEVENT
DTSTART;VALUE=DATE:20240709
DTEND;VALUE=DATE:20240713
DTSTAMP:20260422T051943
CREATED:20241108T054513Z
LAST-MODIFIED:20241108T054513Z
UID:4117-1720483200-1720828799@www.europeanrhinologicsociety.org
SUMMARY:60th Course on Rhinosurgery (Under auspices of ERS)
DESCRIPTION:We would like to invite you to learn and improve your skills in endoscopic rhinoplasty\, FESS and rhinoneurosurgery through lectures and cadaver dissections\, at the place where it originates owing the achievements by Messerklinger and Stammberger.
URL:https://www.europeanrhinologicsociety.org/event/60th-course-on-rhinosurgery-under-auspices-of-ers/
LOCATION:Graz\, Austria
CATEGORIES:Courses
ORGANIZER;CN="CEE%20MEETINGS":MAILTO:sat@cee-meetings.com
END:VEVENT
END:VCALENDAR