BEGIN:VCALENDAR
VERSION:2.0
PRODID:-//European Rhinologic Society - ECPv6.1.3//NONSGML v1.0//EN
CALSCALE:GREGORIAN
METHOD:PUBLISH
X-WR-CALNAME:European Rhinologic Society
X-ORIGINAL-URL:https://www.europeanrhinologicsociety.org
X-WR-CALDESC:Events for European Rhinologic Society
REFRESH-INTERVAL;VALUE=DURATION:PT1H
X-Robots-Tag:noindex
X-PUBLISHED-TTL:PT1H
BEGIN:VTIMEZONE
TZID:UTC
BEGIN:STANDARD
TZOFFSETFROM:+0000
TZOFFSETTO:+0000
TZNAME:UTC
DTSTART:20240101T000000
END:STANDARD
END:VTIMEZONE
BEGIN:VEVENT
DTSTART;VALUE=DATE:20240301
DTEND;VALUE=DATE:20240302
DTSTAMP:20260422T101610
CREATED:20231203T112314Z
LAST-MODIFIED:20231203T112314Z
UID:3821-1709251200-1709337599@www.europeanrhinologicsociety.org
SUMMARY:European Biologics Training Course 2024
DESCRIPTION:EUFOREA presents its first edition of the European Biologics Training Course taking place at the Royal Academy of Medicine in Brussels\, Belgium\, on Friday\, 1st of March 2024. This practical\, hybrid training course is designed to increase engagement and understanding of biologics among healthcare professionals (ENT specialists\, pulmonologists\, and allergologists) treating patients with uncontrolled type 2 diseases including Asthma\, Chronic Rhinosinusitis with Nasal Polyps (CRSwNP) and Atopic Dermatitis (AD). \n  \nContact: contact@euforea.eu
URL:https://www.europeanrhinologicsociety.org/event/european-biologics-training-course-2024/
LOCATION:Brusssels\, Belgium
CATEGORIES:Courses
ORGANIZER;CN="Prof.%20Vibeke%20Backer%2C%20Prof.%20Wytske%20Fokkens%2C%20Prof.%20Peter%20Hellings":MAILTO:contact@euforea.eu
END:VEVENT
END:VCALENDAR